BEGIN:VCALENDAR
VERSION:2.0
PRODID:icalendar-ruby
CALSCALE:GREGORIAN
METHOD:PUBLISH
BEGIN:VEVENT
DTSTAMP:20260423T032512Z
UID:77-484810@balkumbaptist.tithelysetup2.com
DTSTART:20260923T233000Z
DTEND:20260924T003000Z
CLASS:PUBLIC
CREATED:20260422T214324
DESCRIPTION:
LAST-MODIFIED:20260422T214324
LOCATION:TBA
SUMMARY:Discipleship
URL;VALUE=URI:https://www.balkumbc.org/events/discipleship/2026-09-23
END:VEVENT
END:VCALENDAR
