BEGIN:VCALENDAR
VERSION:2.0
PRODID:icalendar-ruby
CALSCALE:GREGORIAN
METHOD:PUBLISH
BEGIN:VEVENT
DTSTAMP:20260423T063053Z
UID:77-484812@balkumbaptist.tithelysetup2.com
DTSTART:20261007T233000Z
DTEND:20261008T003000Z
CLASS:PUBLIC
CREATED:20260422T214324
DESCRIPTION:
LAST-MODIFIED:20260422T214324
LOCATION:TBA
SUMMARY:Discipleship
URL;VALUE=URI:https://www.balkumbc.org/events/discipleship/2026-10-07
END:VEVENT
END:VCALENDAR
