BEGIN:VCALENDAR
VERSION:2.0
PRODID:icalendar-ruby
CALSCALE:GREGORIAN
METHOD:PUBLISH
BEGIN:VEVENT
DTSTAMP:20260423T092924Z
UID:77-484814@balkumbaptist.tithelysetup2.com
DTSTART:20261021T233000Z
DTEND:20261022T003000Z
CLASS:PUBLIC
CREATED:20260422T214324
DESCRIPTION:
LAST-MODIFIED:20260422T214324
LOCATION:TBA
SUMMARY:Discipleship
URL;VALUE=URI:https://www.balkumbc.org/events/discipleship/2026-10-21
END:VEVENT
END:VCALENDAR
