BEGIN:VCALENDAR
VERSION:2.0
PRODID:icalendar-ruby
CALSCALE:GREGORIAN
METHOD:PUBLISH
BEGIN:VEVENT
DTSTAMP:20260423T134057Z
UID:77-485166@balkumbaptist.tithelysetup2.com
DTSTART:20261105T003000Z
DTEND:20261105T013000Z
CLASS:PUBLIC
CREATED:20260423T071343
DESCRIPTION:
LAST-MODIFIED:20260423T071343
LOCATION:TBA
SUMMARY:Discipleship
URL;VALUE=URI:https://www.balkumbc.org/events/discipleship/2026-11-04
END:VEVENT
END:VCALENDAR
