BEGIN:VCALENDAR
VERSION:2.0
PRODID:icalendar-ruby
CALSCALE:GREGORIAN
METHOD:PUBLISH
BEGIN:VEVENT
DTSTAMP:20260422T144656Z
UID:10-482842@balkumbaptist.tithelysetup2.com
DTSTART:20260809T160000Z
DTEND:20260809T170000Z
CLASS:PUBLIC
CREATED:20260422T071231
DESCRIPTION:Sunday Worship
LAST-MODIFIED:20260422T071231
LOCATION:Sanctuary
SUMMARY:Sunday Worship
URL;VALUE=URI:https://www.balkumbc.org/events/sunday-worship/2026-08-09
END:VEVENT
END:VCALENDAR
