BEGIN:VCALENDAR
VERSION:2.0
PRODID:icalendar-ruby
CALSCALE:GREGORIAN
METHOD:PUBLISH
BEGIN:VEVENT
DTSTAMP:20260422T161354Z
UID:10-483191@balkumbaptist.tithelysetup2.com
DTSTART:20260816T160000Z
DTEND:20260816T170000Z
CLASS:PUBLIC
CREATED:20260422T100730
DESCRIPTION:Sunday Worship
LAST-MODIFIED:20260422T100730
LOCATION:Sanctuary
SUMMARY:Sunday Worship
URL;VALUE=URI:https://www.balkumbc.org/events/sunday-worship/2026-08-16
END:VEVENT
END:VCALENDAR
