BEGIN:VCALENDAR
VERSION:2.0
PRODID:icalendar-ruby
CALSCALE:GREGORIAN
METHOD:PUBLISH
BEGIN:VEVENT
DTSTAMP:20260422T225657Z
UID:10-483891@balkumbaptist.tithelysetup2.com
DTSTART:20260913T160000Z
DTEND:20260913T170000Z
CLASS:PUBLIC
CREATED:20260422T155745
DESCRIPTION:Sunday Worship
LAST-MODIFIED:20260422T155745
LOCATION:Sanctuary
SUMMARY:Sunday Worship
URL;VALUE=URI:https://www.balkumbc.org/events/sunday-worship/2026-09-13
END:VEVENT
END:VCALENDAR
