BEGIN:VCALENDAR
VERSION:2.0
PRODID:icalendar-ruby
CALSCALE:GREGORIAN
METHOD:PUBLISH
BEGIN:VEVENT
DTSTAMP:20260423T003222Z
UID:10-484240@balkumbaptist.tithelysetup2.com
DTSTART:20260920T160000Z
DTEND:20260920T170000Z
CLASS:PUBLIC
CREATED:20260422T184933
DESCRIPTION:Sunday Worship
LAST-MODIFIED:20260422T184933
LOCATION:Sanctuary
SUMMARY:Sunday Worship
URL;VALUE=URI:https://www.balkumbc.org/events/sunday-worship/2026-09-20
END:VEVENT
END:VCALENDAR
