BEGIN:VCALENDAR
VERSION:2.0
PRODID:icalendar-ruby
CALSCALE:GREGORIAN
METHOD:PUBLISH
BEGIN:VEVENT
DTSTAMP:20260423T144624Z
UID:10-484941@balkumbaptist.tithelysetup2.com
DTSTART:20261004T160000Z
DTEND:20261004T170000Z
CLASS:PUBLIC
CREATED:20260423T071343
DESCRIPTION:Sunday Worship
LAST-MODIFIED:20260423T071343
LOCATION:Sanctuary
SUMMARY:Sunday Worship
URL;VALUE=URI:https://www.balkumbc.org/events/sunday-worship/2026-10-04
END:VEVENT
END:VCALENDAR
