BEGIN:VCALENDAR
VERSION:2.0
PRODID:icalendar-ruby
CALSCALE:GREGORIAN
METHOD:PUBLISH
BEGIN:VEVENT
DTSTAMP:20260423T193941Z
UID:10-485644@balkumbaptist.tithelysetup2.com
DTSTART:20261025T160000Z
DTEND:20261025T170000Z
CLASS:PUBLIC
CREATED:20260423T130218
DESCRIPTION:Sunday Worship
LAST-MODIFIED:20260423T130218
LOCATION:Sanctuary
SUMMARY:Sunday Worship
URL;VALUE=URI:https://www.balkumbc.org/events/sunday-worship/2026-10-25
END:VEVENT
END:VCALENDAR
